BEGIN:VCALENDAR
VERSION:2.0
PRODID:-// - ECPv6.2.0.1//NONSGML v1.0//EN
CALSCALE:GREGORIAN
METHOD:PUBLISH
X-ORIGINAL-URL:https://leafed.fr
X-WR-CALDESC:évènements pour 
REFRESH-INTERVAL;VALUE=DURATION:PT1H
X-Robots-Tag:noindex
X-PUBLISHED-TTL:PT1H
BEGIN:VTIMEZONE
TZID:Europe/Paris
BEGIN:DAYLIGHT
TZOFFSETFROM:+0100
TZOFFSETTO:+0200
TZNAME:CEST
DTSTART:20230326T010000
END:DAYLIGHT
BEGIN:STANDARD
TZOFFSETFROM:+0200
TZOFFSETTO:+0100
TZNAME:CET
DTSTART:20231029T010000
END:STANDARD
END:VTIMEZONE
BEGIN:VEVENT
DTSTART;TZID=Europe/Paris:20230722T100000
DTEND;TZID=Europe/Paris:20230723T170000
DTSTAMP:20260421T230158
CREATED:20230604T190832Z
LAST-MODIFIED:20230604T190832Z
UID:1550-1690020000-1690131600@leafed.fr
SUMMARY:Bivouac dans le Taillefer
DESCRIPTION:On va faire un bivouac le 22-23 juillet\, dans le massif du Taillefer pas loin de Grenoble. On aura 850 m de dénivelé puis on posera notre tente pour camper à côté d’un lac\, et le lendemain certains peuvent faire un sommet s’il le souhaitent\, puis on redescend
URL:https://leafed.fr/event/bivouac-dans-le-taillefer/
ATTACH;FMTTYPE=image/jpeg:https://leafed.fr/wp-content/uploads/2023/06/Taillefer.jpg
END:VEVENT
END:VCALENDAR